BEGIN:VCALENDAR
VERSION:2.0
PRODID:-//www.petersburgbiblechurch.org//NONSGML kigkonsult.se iCalcreator 
 2.39.1//
CALSCALE:GREGORIAN
METHOD:PUBLISH
UID:31076752-9200-4202-a714-b7dff108ecf8
X-WR-CALNAME:www.petersburgbiblechurch.org
X-WR-CALDESC:www.petersburgbiblechurch.org
X-WR-TIMEZONE:America/Los_Angeles
X-LIC-LOCATION:America/Los_Angeles
BEGIN:VEVENT
UID:ceb0573b-4f81-4819-81cc-bdae44e42498
DTSTAMP:20260425T144116Z
CLASS:PUBLIC
DTSTART;TZID=America/Los_Angeles:20260426T103000
DTEND;TZID=America/Los_Angeles:20260426T120000
SUMMARY:Worship Service
TRANSP:OPAQUE
BEGIN:VALARM
ACTION:DISPLAY
DESCRIPTION:Worship Service
TRIGGER:-PT15M
END:VALARM
END:VEVENT
END:VCALENDAR
